BEGIN:VCALENDAR
VERSION:2.0
PRODID:-//D. W. Montgomery &amp; Company • Organic &amp; Specialty Sugars : Market Expertise for the Sugar Industry - ECPv6.15.20//NONSGML v1.0//EN
CALSCALE:GREGORIAN
METHOD:PUBLISH
X-WR-CALNAME:D. W. Montgomery &amp; Company • Organic &amp; Specialty Sugars : Market Expertise for the Sugar Industry
X-ORIGINAL-URL:https://www.dwmco.com
X-WR-CALDESC:Events for D. W. Montgomery &amp; Company • Organic &amp; Specialty Sugars : Market Expertise for the Sugar Industry
REFRESH-INTERVAL;VALUE=DURATION:PT1H
X-Robots-Tag:noindex
X-PUBLISHED-TTL:PT1H
BEGIN:VTIMEZONE
TZID:America/New_York
BEGIN:DAYLIGHT
TZOFFSETFROM:-0500
TZOFFSETTO:-0400
TZNAME:EDT
DTSTART:20230312T070000
END:DAYLIGHT
BEGIN:STANDARD
TZOFFSETFROM:-0400
TZOFFSETTO:-0500
TZNAME:EST
DTSTART:20231105T060000
END:STANDARD
BEGIN:DAYLIGHT
TZOFFSETFROM:-0500
TZOFFSETTO:-0400
TZNAME:EDT
DTSTART:20240310T070000
END:DAYLIGHT
BEGIN:STANDARD
TZOFFSETFROM:-0400
TZOFFSETTO:-0500
TZNAME:EST
DTSTART:20241103T060000
END:STANDARD
BEGIN:DAYLIGHT
TZOFFSETFROM:-0500
TZOFFSETTO:-0400
TZNAME:EDT
DTSTART:20250309T070000
END:DAYLIGHT
BEGIN:STANDARD
TZOFFSETFROM:-0400
TZOFFSETTO:-0500
TZNAME:EST
DTSTART:20251102T060000
END:STANDARD
END:VTIMEZONE
BEGIN:VEVENT
DTSTART;VALUE=DATE:20240714
DTEND;VALUE=DATE:20240718
DTSTAMP:20260424T100229
CREATED:20230807T190548Z
LAST-MODIFIED:20230808T143608Z
UID:10000010-1720915200-1721260799@www.dwmco.com
SUMMARY:IFT Food Expo 2024
DESCRIPTION:TIFT FIRST means Food Improved by Research\, Science\, and Technology. It is IFT’s response to the transformative nature of the global food system. IFT FIRST is a place where professionals can discover the latest global trends\, newest innovation\, and cutting-edge solutions while making strategic connections to advance their business and careers. \nIFT FIRST: Annual Event and Expo will return July 16-19 at McCormick Place in Chicago. Be the FIRST to save your spot when registration opens on March 1.
URL:https://www.dwmco.com/event/ift-food-expo-2024/
LOCATION:McCormick Place\, McCormick Place South\, Chicago\, IL\, 60607\, United States
GEO:41.8512051;-87.6158068
X-APPLE-STRUCTURED-LOCATION;VALUE=URI;X-ADDRESS=McCormick Place McCormick Place South Chicago IL 60607 United States;X-APPLE-RADIUS=500;X-TITLE=McCormick Place South:geo:-87.6158068,41.8512051
END:VEVENT
END:VCALENDAR