BEGIN:VCALENDAR
VERSION:2.0
PRODID:-//D. W. Montgomery &amp; Company • Organic &amp; Specialty Sugars : Market Expertise for the Sugar Industry - ECPv6.15.20//NONSGML v1.0//EN
CALSCALE:GREGORIAN
METHOD:PUBLISH
X-ORIGINAL-URL:https://www.dwmco.com
X-WR-CALDESC:Events for D. W. Montgomery &amp; Company • Organic &amp; Specialty Sugars : Market Expertise for the Sugar Industry
REFRESH-INTERVAL;VALUE=DURATION:PT1H
X-Robots-Tag:noindex
X-PUBLISHED-TTL:PT1H
BEGIN:VTIMEZONE
TZID:America/New_York
BEGIN:DAYLIGHT
TZOFFSETFROM:-0500
TZOFFSETTO:-0400
TZNAME:EDT
DTSTART:20220313T070000
END:DAYLIGHT
BEGIN:STANDARD
TZOFFSETFROM:-0400
TZOFFSETTO:-0500
TZNAME:EST
DTSTART:20221106T060000
END:STANDARD
BEGIN:DAYLIGHT
TZOFFSETFROM:-0500
TZOFFSETTO:-0400
TZNAME:EDT
DTSTART:20230312T070000
END:DAYLIGHT
BEGIN:STANDARD
TZOFFSETFROM:-0400
TZOFFSETTO:-0500
TZNAME:EST
DTSTART:20231105T060000
END:STANDARD
BEGIN:DAYLIGHT
TZOFFSETFROM:-0500
TZOFFSETTO:-0400
TZNAME:EDT
DTSTART:20240310T070000
END:DAYLIGHT
BEGIN:STANDARD
TZOFFSETFROM:-0400
TZOFFSETTO:-0500
TZNAME:EST
DTSTART:20241103T060000
END:STANDARD
BEGIN:DAYLIGHT
TZOFFSETFROM:-0500
TZOFFSETTO:-0400
TZNAME:EDT
DTSTART:20250309T070000
END:DAYLIGHT
BEGIN:STANDARD
TZOFFSETFROM:-0400
TZOFFSETTO:-0500
TZNAME:EST
DTSTART:20251102T060000
END:STANDARD
BEGIN:DAYLIGHT
TZOFFSETFROM:-0500
TZOFFSETTO:-0400
TZNAME:EDT
DTSTART:20260308T070000
END:DAYLIGHT
BEGIN:STANDARD
TZOFFSETFROM:-0400
TZOFFSETTO:-0500
TZNAME:EST
DTSTART:20261101T060000
END:STANDARD
BEGIN:DAYLIGHT
TZOFFSETFROM:-0500
TZOFFSETTO:-0400
TZNAME:EDT
DTSTART:20270314T070000
END:DAYLIGHT
BEGIN:STANDARD
TZOFFSETFROM:-0400
TZOFFSETTO:-0500
TZNAME:EST
DTSTART:20271107T060000
END:STANDARD
END:VTIMEZONE
BEGIN:VEVENT
DTSTART;VALUE=DATE:20260303
DTEND;VALUE=DATE:20260307
DTSTAMP:20260424T172548
CREATED:20251009T160700Z
LAST-MODIFIED:20251026T203732Z
UID:10000013-1772496000-1772841599@www.dwmco.com
SUMMARY:Natural Products Expo West 2026
DESCRIPTION:Join Us in 2026!\n\n\nStep into the place where the natural and organic movement was born and where its future continues to unfold. For 45 years\, Expo West has been the heartbeat of an industry built on innovation\, purpose\, and connection. This is your moment to empower your future. \n\n\n 
URL:https://www.dwmco.com/event/natural-products-expo-west-2026/
LOCATION:Anaheim Convention Center\, 800 W Katella Ave\, Anaheim\, CA\, 92802\, United States
GEO:33.8023925;-117.9197896
X-APPLE-STRUCTURED-LOCATION;VALUE=URI;X-ADDRESS=Anaheim Convention Center 800 W Katella Ave Anaheim CA 92802 United States;X-APPLE-RADIUS=500;X-TITLE=800 W Katella Ave:geo:-117.9197896,33.8023925
END:VEVENT
BEGIN:VEVENT
DTSTART;VALUE=DATE:20230920
DTEND;VALUE=DATE:20230924
DTSTAMP:20260424T172548
CREATED:20230228T200431Z
LAST-MODIFIED:20230228T204512Z
UID:10000016-1695168000-1695513599@www.dwmco.com
SUMMARY:Natural Products Expo East 2023
DESCRIPTION:Experience Expo East!\n\n\n\n\n\nExpo East is where the natural products industry meets to discover\, learn and push the industry forward. Throughout your Expo experience\, you’ll explore over 1\,000 booths on the trade show floor\, learn about topics heavily influencing the healthy products industry today and maybe even network at a concert or the Philly Fun Run! Spark Your Passion in Philadelphia\, September 20-23\, 2023.
URL:https://www.dwmco.com/event/natural-products-expo-east-2023/
LOCATION:Pennsylvania Convention Center\, Philadelphia\, PA\, United States
GEO:39.9525839;-75.1652215
END:VEVENT
END:VCALENDAR